BEGIN:VCALENDAR
VERSION:2.0
PRODID:-//Warkworth Golf Club - ECPv6.15.18//NONSGML v1.0//EN
CALSCALE:GREGORIAN
METHOD:PUBLISH
X-WR-CALNAME:Warkworth Golf Club
X-ORIGINAL-URL:https://www.warkworthgolf.com
X-WR-CALDESC:Events for Warkworth Golf Club
REFRESH-INTERVAL;VALUE=DURATION:PT1H
X-Robots-Tag:noindex
X-PUBLISHED-TTL:PT1H
BEGIN:VTIMEZONE
TZID:America/New_York
BEGIN:DAYLIGHT
TZOFFSETFROM:-0500
TZOFFSETTO:-0400
TZNAME:EDT
DTSTART:20230312T070000
END:DAYLIGHT
BEGIN:STANDARD
TZOFFSETFROM:-0400
TZOFFSETTO:-0500
TZNAME:EST
DTSTART:20231105T060000
END:STANDARD
BEGIN:DAYLIGHT
TZOFFSETFROM:-0500
TZOFFSETTO:-0400
TZNAME:EDT
DTSTART:20240310T070000
END:DAYLIGHT
BEGIN:STANDARD
TZOFFSETFROM:-0400
TZOFFSETTO:-0500
TZNAME:EST
DTSTART:20241103T060000
END:STANDARD
BEGIN:DAYLIGHT
TZOFFSETFROM:-0500
TZOFFSETTO:-0400
TZNAME:EDT
DTSTART:20250309T070000
END:DAYLIGHT
BEGIN:STANDARD
TZOFFSETFROM:-0400
TZOFFSETTO:-0500
TZNAME:EST
DTSTART:20251102T060000
END:STANDARD
END:VTIMEZONE
BEGIN:VEVENT
DTSTART;TZID=America/New_York:20240509T083000
DTEND;TZID=America/New_York:20240509T100000
DTSTAMP:20260422T035748
CREATED:20240326T182248Z
LAST-MODIFIED:20240326T182248Z
UID:1152-1715243400-1715248800@www.warkworthgolf.com
SUMMARY:Thursday Morning Senior Men - Brighton by Bay
DESCRIPTION:
URL:https://www.warkworthgolf.com/event/thursday-morning-senior-men-brighton-by-bay-2/
LOCATION:Warkworth Golf Club\, 14267A\, Northumberland County Rd 29\, Warkworth\, Ontario\, K0K3K0\, Canada
END:VEVENT
BEGIN:VEVENT
DTSTART;TZID=America/New_York:20240509T153000
DTEND;TZID=America/New_York:20240509T164000
DTSTAMP:20260422T035748
CREATED:20240326T183820Z
LAST-MODIFIED:20240326T183820Z
UID:1196-1715268600-1715272800@www.warkworthgolf.com
SUMMARY:Thursday Night Couples - Mixed Scramble
DESCRIPTION:
URL:https://www.warkworthgolf.com/event/thursday-night-couples-mixed-scramble-2/
LOCATION:Warkworth Golf Club\, 14267A\, Northumberland County Rd 29\, Warkworth\, Ontario\, K0K3K0\, Canada
END:VEVENT
BEGIN:VEVENT
DTSTART;TZID=America/New_York:20240509T165000
DTEND;TZID=America/New_York:20240509T180000
DTSTAMP:20260422T035748
CREATED:20240326T185419Z
LAST-MODIFIED:20240326T185419Z
UID:1240-1715273400-1715277600@www.warkworthgolf.com
SUMMARY:Thursday Night Business Men
DESCRIPTION:
URL:https://www.warkworthgolf.com/event/thursday-night-business-men-2/
LOCATION:Warkworth Golf Club\, 14267A\, Northumberland County Rd 29\, Warkworth\, Ontario\, K0K3K0\, Canada
END:VEVENT
END:VCALENDAR