BEGIN:VCALENDAR
VERSION:2.0
PRODID:-//Warkworth Golf Club - ECPv6.15.18//NONSGML v1.0//EN
CALSCALE:GREGORIAN
METHOD:PUBLISH
X-ORIGINAL-URL:https://www.warkworthgolf.com
X-WR-CALDESC:Events for Warkworth Golf Club
REFRESH-INTERVAL;VALUE=DURATION:PT1H
X-Robots-Tag:noindex
X-PUBLISHED-TTL:PT1H
BEGIN:VTIMEZONE
TZID:America/New_York
BEGIN:DAYLIGHT
TZOFFSETFROM:-0500
TZOFFSETTO:-0400
TZNAME:EDT
DTSTART:20230312T070000
END:DAYLIGHT
BEGIN:STANDARD
TZOFFSETFROM:-0400
TZOFFSETTO:-0500
TZNAME:EST
DTSTART:20231105T060000
END:STANDARD
BEGIN:DAYLIGHT
TZOFFSETFROM:-0500
TZOFFSETTO:-0400
TZNAME:EDT
DTSTART:20240310T070000
END:DAYLIGHT
BEGIN:STANDARD
TZOFFSETFROM:-0400
TZOFFSETTO:-0500
TZNAME:EST
DTSTART:20241103T060000
END:STANDARD
BEGIN:DAYLIGHT
TZOFFSETFROM:-0500
TZOFFSETTO:-0400
TZNAME:EDT
DTSTART:20250309T070000
END:DAYLIGHT
BEGIN:STANDARD
TZOFFSETFROM:-0400
TZOFFSETTO:-0500
TZNAME:EST
DTSTART:20251102T060000
END:STANDARD
END:VTIMEZONE
BEGIN:VEVENT
DTSTART;TZID=America/New_York:20240529T085000
DTEND;TZID=America/New_York:20240529T092000
DTSTAMP:20260422T034729
CREATED:20240325T185431Z
LAST-MODIFIED:20240325T185431Z
UID:974-1716972600-1716974400@www.warkworthgolf.com
SUMMARY:Wednesday Morning Ladies
DESCRIPTION:
URL:https://www.warkworthgolf.com/event/wednesday-morning-ladies-5/
LOCATION:Warkworth Golf Club\, 14267A\, Northumberland County Rd 29\, Warkworth\, Ontario\, K0K3K0\, Canada
END:VEVENT
BEGIN:VEVENT
DTSTART;TZID=America/New_York:20240529T093000
DTEND;TZID=America/New_York:20240529T101000
DTSTAMP:20260422T034729
CREATED:20240325T190755Z
LAST-MODIFIED:20240325T190755Z
UID:1018-1716975000-1716977400@www.warkworthgolf.com
SUMMARY:Wednesday Morning Senior Men
DESCRIPTION:
URL:https://www.warkworthgolf.com/event/wednesday-morning-senior-men-5/
LOCATION:Warkworth Golf Club\, 14267A\, Northumberland County Rd 29\, Warkworth\, Ontario\, K0K3K0\, Canada
END:VEVENT
BEGIN:VEVENT
DTSTART;TZID=America/New_York:20240529T160000
DTEND;TZID=America/New_York:20240529T170000
DTSTAMP:20260422T034729
CREATED:20240325T193115Z
LAST-MODIFIED:20240325T193115Z
UID:1062-1716998400-1717002000@www.warkworthgolf.com
SUMMARY:Wednesday Night Men - Early League
DESCRIPTION:
URL:https://www.warkworthgolf.com/event/wednesday-night-men-early-league-5/
LOCATION:Warkworth Golf Club\, 14267A\, Northumberland County Rd 29\, Warkworth\, Ontario\, K0K3K0\, Canada
END:VEVENT
BEGIN:VEVENT
DTSTART;TZID=America/New_York:20240529T164000
DTEND;TZID=America/New_York:20240529T180000
DTSTAMP:20260422T034729
CREATED:20240326T181217Z
LAST-MODIFIED:20240326T181217Z
UID:1114-1717000800-1717005600@www.warkworthgolf.com
SUMMARY:Wednesday Night Men - Late League
DESCRIPTION:
URL:https://www.warkworthgolf.com/event/wednesday-night-men-late-league-5/
LOCATION:Warkworth Golf Club\, 14267A\, Northumberland County Rd 29\, Warkworth\, Ontario\, K0K3K0\, Canada
END:VEVENT
END:VCALENDAR