BEGIN:VCALENDAR
VERSION:2.0
PRODID:-//Warkworth Golf Club - ECPv6.15.18//NONSGML v1.0//EN
CALSCALE:GREGORIAN
METHOD:PUBLISH
X-ORIGINAL-URL:https://www.warkworthgolf.com
X-WR-CALDESC:Events for Warkworth Golf Club
REFRESH-INTERVAL;VALUE=DURATION:PT1H
X-Robots-Tag:noindex
X-PUBLISHED-TTL:PT1H
BEGIN:VTIMEZONE
TZID:America/New_York
BEGIN:DAYLIGHT
TZOFFSETFROM:-0500
TZOFFSETTO:-0400
TZNAME:EDT
DTSTART:20230312T070000
END:DAYLIGHT
BEGIN:STANDARD
TZOFFSETFROM:-0400
TZOFFSETTO:-0500
TZNAME:EST
DTSTART:20231105T060000
END:STANDARD
BEGIN:DAYLIGHT
TZOFFSETFROM:-0500
TZOFFSETTO:-0400
TZNAME:EDT
DTSTART:20240310T070000
END:DAYLIGHT
BEGIN:STANDARD
TZOFFSETFROM:-0400
TZOFFSETTO:-0500
TZNAME:EST
DTSTART:20241103T060000
END:STANDARD
BEGIN:DAYLIGHT
TZOFFSETFROM:-0500
TZOFFSETTO:-0400
TZNAME:EDT
DTSTART:20250309T070000
END:DAYLIGHT
BEGIN:STANDARD
TZOFFSETFROM:-0400
TZOFFSETTO:-0500
TZNAME:EST
DTSTART:20251102T060000
END:STANDARD
END:VTIMEZONE
BEGIN:VEVENT
DTSTART;TZID=America/New_York:20240605T085000
DTEND;TZID=America/New_York:20240605T092000
DTSTAMP:20260422T023724
CREATED:20240325T185500Z
LAST-MODIFIED:20240325T185500Z
UID:976-1717577400-1717579200@www.warkworthgolf.com
SUMMARY:Wednesday Morning Ladies
DESCRIPTION:
URL:https://www.warkworthgolf.com/event/wednesday-morning-ladies-6/
LOCATION:Warkworth Golf Club\, 14267A\, Northumberland County Rd 29\, Warkworth\, Ontario\, K0K3K0\, Canada
END:VEVENT
BEGIN:VEVENT
DTSTART;TZID=America/New_York:20240605T093000
DTEND;TZID=America/New_York:20240605T101000
DTSTAMP:20260422T023724
CREATED:20240325T190818Z
LAST-MODIFIED:20240325T190818Z
UID:1020-1717579800-1717582200@www.warkworthgolf.com
SUMMARY:Wednesday Morning Senior Men
DESCRIPTION:
URL:https://www.warkworthgolf.com/event/wednesday-morning-senior-men-6/
LOCATION:Warkworth Golf Club\, 14267A\, Northumberland County Rd 29\, Warkworth\, Ontario\, K0K3K0\, Canada
END:VEVENT
BEGIN:VEVENT
DTSTART;TZID=America/New_York:20240605T160000
DTEND;TZID=America/New_York:20240605T170000
DTSTAMP:20260422T023724
CREATED:20240325T193149Z
LAST-MODIFIED:20240325T193149Z
UID:1064-1717603200-1717606800@www.warkworthgolf.com
SUMMARY:Wednesday Night Men - Early League
DESCRIPTION:
URL:https://www.warkworthgolf.com/event/wednesday-night-men-early-league-6/
LOCATION:Warkworth Golf Club\, 14267A\, Northumberland County Rd 29\, Warkworth\, Ontario\, K0K3K0\, Canada
END:VEVENT
BEGIN:VEVENT
DTSTART;TZID=America/New_York:20240605T164000
DTEND;TZID=America/New_York:20240605T180000
DTSTAMP:20260422T023724
CREATED:20240326T181257Z
LAST-MODIFIED:20240326T181257Z
UID:1116-1717605600-1717610400@www.warkworthgolf.com
SUMMARY:Wednesday Night Men - Late League
DESCRIPTION:
URL:https://www.warkworthgolf.com/event/wednesday-night-men-late-league-6/
LOCATION:Warkworth Golf Club\, 14267A\, Northumberland County Rd 29\, Warkworth\, Ontario\, K0K3K0\, Canada
END:VEVENT
END:VCALENDAR