BEGIN:VCALENDAR
VERSION:2.0
PRODID:-//Warkworth Golf Club - ECPv6.15.18//NONSGML v1.0//EN
CALSCALE:GREGORIAN
METHOD:PUBLISH
X-WR-CALNAME:Warkworth Golf Club
X-ORIGINAL-URL:https://www.warkworthgolf.com
X-WR-CALDESC:Events for Warkworth Golf Club
REFRESH-INTERVAL;VALUE=DURATION:PT1H
X-Robots-Tag:noindex
X-PUBLISHED-TTL:PT1H
BEGIN:VTIMEZONE
TZID:America/New_York
BEGIN:DAYLIGHT
TZOFFSETFROM:-0500
TZOFFSETTO:-0400
TZNAME:EDT
DTSTART:20230312T070000
END:DAYLIGHT
BEGIN:STANDARD
TZOFFSETFROM:-0400
TZOFFSETTO:-0500
TZNAME:EST
DTSTART:20231105T060000
END:STANDARD
BEGIN:DAYLIGHT
TZOFFSETFROM:-0500
TZOFFSETTO:-0400
TZNAME:EDT
DTSTART:20240310T070000
END:DAYLIGHT
BEGIN:STANDARD
TZOFFSETFROM:-0400
TZOFFSETTO:-0500
TZNAME:EST
DTSTART:20241103T060000
END:STANDARD
BEGIN:DAYLIGHT
TZOFFSETFROM:-0500
TZOFFSETTO:-0400
TZNAME:EDT
DTSTART:20250309T070000
END:DAYLIGHT
BEGIN:STANDARD
TZOFFSETFROM:-0400
TZOFFSETTO:-0500
TZNAME:EST
DTSTART:20251102T060000
END:STANDARD
END:VTIMEZONE
BEGIN:VEVENT
DTSTART;TZID=America/New_York:20240619T085000
DTEND;TZID=America/New_York:20240619T092000
DTSTAMP:20260422T023713
CREATED:20240325T185611Z
LAST-MODIFIED:20240325T185611Z
UID:980-1718787000-1718788800@www.warkworthgolf.com
SUMMARY:Wednesday Morning Ladies
DESCRIPTION:
URL:https://www.warkworthgolf.com/event/wednesday-morning-ladies-8/
LOCATION:Warkworth Golf Club\, 14267A\, Northumberland County Rd 29\, Warkworth\, Ontario\, K0K3K0\, Canada
END:VEVENT
BEGIN:VEVENT
DTSTART;TZID=America/New_York:20240619T093000
DTEND;TZID=America/New_York:20240619T101000
DTSTAMP:20260422T023713
CREATED:20240325T191220Z
LAST-MODIFIED:20240325T191220Z
UID:1024-1718789400-1718791800@www.warkworthgolf.com
SUMMARY:Wednesday Morning Senior Men
DESCRIPTION:
URL:https://www.warkworthgolf.com/event/wednesday-morning-senior-men-8/
LOCATION:Warkworth Golf Club\, 14267A\, Northumberland County Rd 29\, Warkworth\, Ontario\, K0K3K0\, Canada
END:VEVENT
BEGIN:VEVENT
DTSTART;TZID=America/New_York:20240619T160000
DTEND;TZID=America/New_York:20240619T170000
DTSTAMP:20260422T023713
CREATED:20240325T193337Z
LAST-MODIFIED:20240325T193337Z
UID:1068-1718812800-1718816400@www.warkworthgolf.com
SUMMARY:Wednesday Night Men - Early League
DESCRIPTION:
URL:https://www.warkworthgolf.com/event/wednesday-night-men-early-league-8/
LOCATION:Warkworth Golf Club\, 14267A\, Northumberland County Rd 29\, Warkworth\, Ontario\, K0K3K0\, Canada
END:VEVENT
BEGIN:VEVENT
DTSTART;TZID=America/New_York:20240619T164000
DTEND;TZID=America/New_York:20240619T180000
DTSTAMP:20260422T023713
CREATED:20240326T181347Z
LAST-MODIFIED:20240326T181347Z
UID:1120-1718815200-1718820000@www.warkworthgolf.com
SUMMARY:Wednesday Night Men - Late League
DESCRIPTION:
URL:https://www.warkworthgolf.com/event/wednesday-night-men-late-league-8/
LOCATION:Warkworth Golf Club\, 14267A\, Northumberland County Rd 29\, Warkworth\, Ontario\, K0K3K0\, Canada
END:VEVENT
END:VCALENDAR