BEGIN:VCALENDAR
VERSION:2.0
PRODID:-//Warkworth Golf Club - ECPv6.15.18//NONSGML v1.0//EN
CALSCALE:GREGORIAN
METHOD:PUBLISH
X-ORIGINAL-URL:https://www.warkworthgolf.com
X-WR-CALDESC:Events for Warkworth Golf Club
REFRESH-INTERVAL;VALUE=DURATION:PT1H
X-Robots-Tag:noindex
X-PUBLISHED-TTL:PT1H
BEGIN:VTIMEZONE
TZID:America/New_York
BEGIN:DAYLIGHT
TZOFFSETFROM:-0500
TZOFFSETTO:-0400
TZNAME:EDT
DTSTART:20230312T070000
END:DAYLIGHT
BEGIN:STANDARD
TZOFFSETFROM:-0400
TZOFFSETTO:-0500
TZNAME:EST
DTSTART:20231105T060000
END:STANDARD
BEGIN:DAYLIGHT
TZOFFSETFROM:-0500
TZOFFSETTO:-0400
TZNAME:EDT
DTSTART:20240310T070000
END:DAYLIGHT
BEGIN:STANDARD
TZOFFSETFROM:-0400
TZOFFSETTO:-0500
TZNAME:EST
DTSTART:20241103T060000
END:STANDARD
BEGIN:DAYLIGHT
TZOFFSETFROM:-0500
TZOFFSETTO:-0400
TZNAME:EDT
DTSTART:20250309T070000
END:DAYLIGHT
BEGIN:STANDARD
TZOFFSETFROM:-0400
TZOFFSETTO:-0500
TZNAME:EST
DTSTART:20251102T060000
END:STANDARD
END:VTIMEZONE
BEGIN:VEVENT
DTSTART;TZID=America/New_York:20240710T085000
DTEND;TZID=America/New_York:20240710T092000
DTSTAMP:20260422T012040
CREATED:20240325T185811Z
LAST-MODIFIED:20240325T185811Z
UID:986-1720601400-1720603200@www.warkworthgolf.com
SUMMARY:Wednesday Morning Ladies
DESCRIPTION:
URL:https://www.warkworthgolf.com/event/wednesday-morning-ladies-11/
LOCATION:Warkworth Golf Club\, 14267A\, Northumberland County Rd 29\, Warkworth\, Ontario\, K0K3K0\, Canada
END:VEVENT
BEGIN:VEVENT
DTSTART;TZID=America/New_York:20240710T093000
DTEND;TZID=America/New_York:20240710T101000
DTSTAMP:20260422T012040
CREATED:20240325T192028Z
LAST-MODIFIED:20240325T192028Z
UID:1030-1720603800-1720606200@www.warkworthgolf.com
SUMMARY:Wednesday Morning Senior Men
DESCRIPTION:
URL:https://www.warkworthgolf.com/event/wednesday-morning-senior-men-11/
LOCATION:Warkworth Golf Club\, 14267A\, Northumberland County Rd 29\, Warkworth\, Ontario\, K0K3K0\, Canada
END:VEVENT
BEGIN:VEVENT
DTSTART;TZID=America/New_York:20240710T160000
DTEND;TZID=America/New_York:20240710T170000
DTSTAMP:20260422T012040
CREATED:20240325T193511Z
LAST-MODIFIED:20240325T193511Z
UID:1074-1720627200-1720630800@www.warkworthgolf.com
SUMMARY:Wednesday Night Men - Early League
DESCRIPTION:
URL:https://www.warkworthgolf.com/event/wednesday-night-men-early-league-11/
LOCATION:Warkworth Golf Club\, 14267A\, Northumberland County Rd 29\, Warkworth\, Ontario\, K0K3K0\, Canada
END:VEVENT
BEGIN:VEVENT
DTSTART;TZID=America/New_York:20240710T164000
DTEND;TZID=America/New_York:20240710T170000
DTSTAMP:20260422T012040
CREATED:20240326T181522Z
LAST-MODIFIED:20240326T181522Z
UID:1126-1720629600-1720630800@www.warkworthgolf.com
SUMMARY:Wednesday Night Men - Late League
DESCRIPTION:
URL:https://www.warkworthgolf.com/event/wednesday-night-men-late-league-11/
LOCATION:Warkworth Golf Club\, 14267A\, Northumberland County Rd 29\, Warkworth\, Ontario\, K0K3K0\, Canada
END:VEVENT
END:VCALENDAR