BEGIN:VCALENDAR
VERSION:2.0
PRODID:-//Warkworth Golf Club - ECPv6.15.18//NONSGML v1.0//EN
CALSCALE:GREGORIAN
METHOD:PUBLISH
X-WR-CALNAME:Warkworth Golf Club
X-ORIGINAL-URL:https://www.warkworthgolf.com
X-WR-CALDESC:Events for Warkworth Golf Club
REFRESH-INTERVAL;VALUE=DURATION:PT1H
X-Robots-Tag:noindex
X-PUBLISHED-TTL:PT1H
BEGIN:VTIMEZONE
TZID:America/New_York
BEGIN:DAYLIGHT
TZOFFSETFROM:-0500
TZOFFSETTO:-0400
TZNAME:EDT
DTSTART:20230312T070000
END:DAYLIGHT
BEGIN:STANDARD
TZOFFSETFROM:-0400
TZOFFSETTO:-0500
TZNAME:EST
DTSTART:20231105T060000
END:STANDARD
BEGIN:DAYLIGHT
TZOFFSETFROM:-0500
TZOFFSETTO:-0400
TZNAME:EDT
DTSTART:20240310T070000
END:DAYLIGHT
BEGIN:STANDARD
TZOFFSETFROM:-0400
TZOFFSETTO:-0500
TZNAME:EST
DTSTART:20241103T060000
END:STANDARD
BEGIN:DAYLIGHT
TZOFFSETFROM:-0500
TZOFFSETTO:-0400
TZNAME:EDT
DTSTART:20250309T070000
END:DAYLIGHT
BEGIN:STANDARD
TZOFFSETFROM:-0400
TZOFFSETTO:-0500
TZNAME:EST
DTSTART:20251102T060000
END:STANDARD
END:VTIMEZONE
BEGIN:VEVENT
DTSTART;TZID=America/New_York:20240807T085000
DTEND;TZID=America/New_York:20240807T092000
DTSTAMP:20260421T235453
CREATED:20240325T190012Z
LAST-MODIFIED:20240325T190012Z
UID:994-1723020600-1723022400@www.warkworthgolf.com
SUMMARY:Wednesday Morning Ladies
DESCRIPTION:
URL:https://www.warkworthgolf.com/event/wednesday-morning-ladies-15/
LOCATION:Warkworth Golf Club\, 14267A\, Northumberland County Rd 29\, Warkworth\, Ontario\, K0K3K0\, Canada
END:VEVENT
BEGIN:VEVENT
DTSTART;TZID=America/New_York:20240807T093000
DTEND;TZID=America/New_York:20240807T101000
DTSTAMP:20260421T235453
CREATED:20240325T192254Z
LAST-MODIFIED:20240325T192254Z
UID:1038-1723023000-1723025400@www.warkworthgolf.com
SUMMARY:Wednesday Morning Senior Men
DESCRIPTION:
URL:https://www.warkworthgolf.com/event/wednesday-morning-senior-men-15/
LOCATION:Warkworth Golf Club\, 14267A\, Northumberland County Rd 29\, Warkworth\, Ontario\, K0K3K0\, Canada
END:VEVENT
BEGIN:VEVENT
DTSTART;TZID=America/New_York:20240807T160000
DTEND;TZID=America/New_York:20240807T170000
DTSTAMP:20260421T235453
CREATED:20240325T193736Z
LAST-MODIFIED:20240325T193736Z
UID:1084-1723046400-1723050000@www.warkworthgolf.com
SUMMARY:Wednesday Night Men - Early League
DESCRIPTION:
URL:https://www.warkworthgolf.com/event/wednesday-night-men-early-league-16/
LOCATION:Warkworth Golf Club\, 14267A\, Northumberland County Rd 29\, Warkworth\, Ontario\, K0K3K0\, Canada
END:VEVENT
BEGIN:VEVENT
DTSTART;TZID=America/New_York:20240807T160000
DTEND;TZID=America/New_York:20240807T170000
DTSTAMP:20260421T235453
CREATED:20240325T193827Z
LAST-MODIFIED:20240325T193827Z
UID:1086-1723046400-1723050000@www.warkworthgolf.com
SUMMARY:Wednesday Night Men - Early League
DESCRIPTION:
URL:https://www.warkworthgolf.com/event/wednesday-night-men-early-league-17/
LOCATION:Warkworth Golf Club\, 14267A\, Northumberland County Rd 29\, Warkworth\, Ontario\, K0K3K0\, Canada
END:VEVENT
BEGIN:VEVENT
DTSTART;TZID=America/New_York:20240807T164000
DTEND;TZID=America/New_York:20240807T180000
DTSTAMP:20260421T235453
CREATED:20240326T181658Z
LAST-MODIFIED:20240326T181658Z
UID:1134-1723048800-1723053600@www.warkworthgolf.com
SUMMARY:Wednesday Night Men - Late League
DESCRIPTION:
URL:https://www.warkworthgolf.com/event/wednesday-night-men-late-league-15/
LOCATION:Warkworth Golf Club\, 14267A\, Northumberland County Rd 29\, Warkworth\, Ontario\, K0K3K0\, Canada
END:VEVENT
END:VCALENDAR