BEGIN:VCALENDAR
VERSION:2.0
PRODID:-//Warkworth Golf Club - ECPv6.15.18//NONSGML v1.0//EN
CALSCALE:GREGORIAN
METHOD:PUBLISH
X-WR-CALNAME:Warkworth Golf Club
X-ORIGINAL-URL:https://www.warkworthgolf.com
X-WR-CALDESC:Events for Warkworth Golf Club
REFRESH-INTERVAL;VALUE=DURATION:PT1H
X-Robots-Tag:noindex
X-PUBLISHED-TTL:PT1H
BEGIN:VTIMEZONE
TZID:America/New_York
BEGIN:DAYLIGHT
TZOFFSETFROM:-0500
TZOFFSETTO:-0400
TZNAME:EDT
DTSTART:20230312T070000
END:DAYLIGHT
BEGIN:STANDARD
TZOFFSETFROM:-0400
TZOFFSETTO:-0500
TZNAME:EST
DTSTART:20231105T060000
END:STANDARD
BEGIN:DAYLIGHT
TZOFFSETFROM:-0500
TZOFFSETTO:-0400
TZNAME:EDT
DTSTART:20240310T070000
END:DAYLIGHT
BEGIN:STANDARD
TZOFFSETFROM:-0400
TZOFFSETTO:-0500
TZNAME:EST
DTSTART:20241103T060000
END:STANDARD
BEGIN:DAYLIGHT
TZOFFSETFROM:-0500
TZOFFSETTO:-0400
TZNAME:EDT
DTSTART:20250309T070000
END:DAYLIGHT
BEGIN:STANDARD
TZOFFSETFROM:-0400
TZOFFSETTO:-0500
TZNAME:EST
DTSTART:20251102T060000
END:STANDARD
END:VTIMEZONE
BEGIN:VEVENT
DTSTART;TZID=America/New_York:20240917T090000
DTEND;TZID=America/New_York:20240917T093000
DTSTAMP:20260421T220939
CREATED:20240322T190336Z
LAST-MODIFIED:20240322T190336Z
UID:911-1726563600-1726565400@www.warkworthgolf.com
SUMMARY:Tuesday Morning Ladies - Fun League
DESCRIPTION:
URL:https://www.warkworthgolf.com/event/tuesday-morning-ladies-fun-league-21/
LOCATION:Warkworth Golf Club\, 14267A\, Northumberland County Rd 29\, Warkworth\, Ontario\, K0K3K0\, Canada
END:VEVENT
BEGIN:VEVENT
DTSTART;TZID=America/New_York:20240917T154000
DTEND;TZID=America/New_York:20240917T163000
DTSTAMP:20260421T220939
CREATED:20240322T191713Z
LAST-MODIFIED:20240322T191713Z
UID:959-1726587600-1726590600@www.warkworthgolf.com
SUMMARY:Tuesday Night Senior Men
DESCRIPTION:
URL:https://www.warkworthgolf.com/event/tuesday-night-senior-men-22/
LOCATION:Warkworth Golf Club\, 14267A\, Northumberland County Rd 29\, Warkworth\, Ontario\, K0K3K0\, Canada
END:VEVENT
END:VCALENDAR