BEGIN:VCALENDAR
VERSION:2.0
PRODID:-//Warkworth Golf Club - ECPv6.15.18//NONSGML v1.0//EN
CALSCALE:GREGORIAN
METHOD:PUBLISH
X-ORIGINAL-URL:https://www.warkworthgolf.com
X-WR-CALDESC:Events for Warkworth Golf Club
REFRESH-INTERVAL;VALUE=DURATION:PT1H
X-Robots-Tag:noindex
X-PUBLISHED-TTL:PT1H
BEGIN:VTIMEZONE
TZID:America/New_York
BEGIN:DAYLIGHT
TZOFFSETFROM:-0500
TZOFFSETTO:-0400
TZNAME:EDT
DTSTART:20230312T070000
END:DAYLIGHT
BEGIN:STANDARD
TZOFFSETFROM:-0400
TZOFFSETTO:-0500
TZNAME:EST
DTSTART:20231105T060000
END:STANDARD
BEGIN:DAYLIGHT
TZOFFSETFROM:-0500
TZOFFSETTO:-0400
TZNAME:EDT
DTSTART:20240310T070000
END:DAYLIGHT
BEGIN:STANDARD
TZOFFSETFROM:-0400
TZOFFSETTO:-0500
TZNAME:EST
DTSTART:20241103T060000
END:STANDARD
BEGIN:DAYLIGHT
TZOFFSETFROM:-0500
TZOFFSETTO:-0400
TZNAME:EDT
DTSTART:20250309T070000
END:DAYLIGHT
BEGIN:STANDARD
TZOFFSETFROM:-0400
TZOFFSETTO:-0500
TZNAME:EST
DTSTART:20251102T060000
END:STANDARD
END:VTIMEZONE
BEGIN:VEVENT
DTSTART;TZID=America/New_York:20240919T083000
DTEND;TZID=America/New_York:20240919T100000
DTSTAMP:20260421T221148
CREATED:20240326T183509Z
LAST-MODIFIED:20240326T183509Z
UID:1190-1726734600-1726740000@www.warkworthgolf.com
SUMMARY:Thursday Morning Senior Men - Brighton by Bay
DESCRIPTION:
URL:https://www.warkworthgolf.com/event/thursday-morning-senior-men-brighton-by-bay-20/
LOCATION:Warkworth Golf Club\, 14267A\, Northumberland County Rd 29\, Warkworth\, Ontario\, K0K3K0\, Canada
END:VEVENT
BEGIN:VEVENT
DTSTART;TZID=America/New_York:20240919T100000
DTEND;TZID=America/New_York:20240919T150000
DTSTAMP:20260421T221148
CREATED:20231025T182722Z
LAST-MODIFIED:20240322T164739Z
UID:463-1726740000-1726758000@www.warkworthgolf.com
SUMMARY:Senior Men's Invitational
DESCRIPTION:
URL:https://www.warkworthgolf.com/event/senior-mens-invitational/
LOCATION:Warkworth Golf Club\, 14267A\, Northumberland County Rd 29\, Warkworth\, Ontario\, K0K3K0\, Canada
END:VEVENT
BEGIN:VEVENT
DTSTART;TZID=America/New_York:20240919T153000
DTEND;TZID=America/New_York:20240919T164000
DTSTAMP:20260421T221148
CREATED:20240326T185208Z
LAST-MODIFIED:20240326T185208Z
UID:1234-1726759800-1726764000@www.warkworthgolf.com
SUMMARY:Thursday Night Couples - Mixed Scramble
DESCRIPTION:
URL:https://www.warkworthgolf.com/event/thursday-night-couples-mixed-scramble-21/
LOCATION:Warkworth Golf Club\, 14267A\, Northumberland County Rd 29\, Warkworth\, Ontario\, K0K3K0\, Canada
END:VEVENT
BEGIN:VEVENT
DTSTART;TZID=America/New_York:20240919T165000
DTEND;TZID=America/New_York:20240919T180000
DTSTAMP:20260421T221148
CREATED:20240326T190557Z
LAST-MODIFIED:20240326T190557Z
UID:1278-1726764600-1726768800@www.warkworthgolf.com
SUMMARY:Thursday Night Business Men
DESCRIPTION:
URL:https://www.warkworthgolf.com/event/thursday-night-business-men-21/
LOCATION:Warkworth Golf Club\, 14267A\, Northumberland County Rd 29\, Warkworth\, Ontario\, K0K3K0\, Canada
END:VEVENT
END:VCALENDAR